BEGIN:VCALENDAR
VERSION:2.0
PRODID:SchoolNow
CALSCALE:GREGORIAN
BEGIN:VEVENT
UID:9f8631de-8435-11f0-a184-0affee066179
DTSTAMP:20260209T162621Z
SUMMARY:CDD Board Meeting - Sept. 2026
LOCATION:960 Promenade St\, Panama City\, FL 32405
URL;VALUE=URI:https://www.sweetbayrescdd3.com/calendar/8554245/cdd-board-me
 eting-sept-2026
DTSTART:20260918T150000Z
DTEND:20260918T160000Z
END:VEVENT
END:VCALENDAR
