BEGIN:VCALENDAR
VERSION:2.0
PRODID:SchoolNow
CALSCALE:GREGORIAN
BEGIN:VEVENT
UID:41c6eaca-8435-11f0-8bba-029f65b6582b
DTSTAMP:20251010T164829Z
SUMMARY:CANCELLED - CDD Board Meeting - Oct. 2025
LOCATION:3204 Heartleaf Ave. E.\, Panama City\, FL 32405
URL;VALUE=URI:https://www.sweetbayrescdd3.com/calendar/8554234/cdd-board-me
 eting-oct-2025
DTSTART:20251017T150000Z
DTEND:20251017T160000Z
END:VEVENT
END:VCALENDAR
