BEGIN:VCALENDAR
VERSION:2.0
PRODID:SchoolNow
CALSCALE:GREGORIAN
BEGIN:VEVENT
UID:9e629572-8670-11ef-90fb-0affd4bf11db
DTSTAMP:20250912T140639Z
SUMMARY:CDD Board Meeting - Sept. 2025 - CANCELLED
LOCATION:3204 Heartleaf Ave. E.\, Panama City\, FL 32405
URL;VALUE=URI:https://www.sweetbayrescdd3.com/calendar/6790809/cdd-board-me
 eting-sept-2025
DTSTART:20250919T150000Z
DTEND:20250919T160000Z
END:VEVENT
END:VCALENDAR
