BEGIN:VCALENDAR
VERSION:2.0
PRODID:SchoolNow
CALSCALE:GREGORIAN
BEGIN:VEVENT
UID:8d23d3c0-8670-11ef-a810-0a58a9feac02
DTSTAMP:20250812T194257Z
SUMMARY:CDD Board Meeting + Budget Public Hearing - Aug. 2025
LOCATION:3204 Heartleaf Ave. E.\, Panama City\, FL 32405
URL;VALUE=URI:https://www.sweetbayrescdd3.com/calendar/6790808/cdd-board-me
 eting-aug-2025
DTSTART:20250815T150000Z
DTEND:20250815T160000Z
ATTACH;FILENAME=2025-08-15 Main Agenda Package.pdf;FMTTYPE=application/pdf:
 https://campussuite-storage.s3.amazonaws.com/prod/1559227/bf9b029c-84d1-11
 ef-a7a1-0241696e5a1d/2990385/392bc558-749e-11f0-a6eb-0a58a9feac02/file/202
 5-08-15 Main Agenda Package.pdf
ATTACH;FILENAME=2025-08-15 RD3 Agenda Package.pdf;FMTTYPE=application/pdf:h
 ttps://campussuite-storage.s3.amazonaws.com/prod/1559227/bf9b029c-84d1-11e
 f-a7a1-0241696e5a1d/2991919/29555fa4-77b4-11f0-b367-0e539e40147b/file/2025
 -08-15 RD3 Agenda Package.pdf
END:VEVENT
END:VCALENDAR
