BEGIN:VCALENDAR
VERSION:2.0
PRODID:SchoolNow
CALSCALE:GREGORIAN
BEGIN:VEVENT
UID:7be6cffe-8670-11ef-8af2-0affd4bf11db
DTSTAMP:20250711T160839Z
SUMMARY:CDD Board Meeting - Jul. 2025 - CANCELLED
LOCATION:3204 Heartleaf Ave. E.\, Panama City\, FL 32405
URL;VALUE=URI:https://www.sweetbayrescdd3.com/calendar/6790807/cdd-board-me
 eting-jul-2025
DTSTART:20250718T150000Z
DTEND:20250718T160000Z
END:VEVENT
END:VCALENDAR
