BEGIN:VCALENDAR
VERSION:2.0
PRODID:SchoolNow
CALSCALE:GREGORIAN
BEGIN:VEVENT
UID:6bfedac8-8670-11ef-b54e-0a58a9feac02
DTSTAMP:20250618T202634Z
SUMMARY:CDD Board Meeting - Jun. 2025
LOCATION:3204 Heartleaf Ave. E.\, Panama City\, FL 32405
URL;VALUE=URI:https://www.sweetbayrescdd3.com/calendar/6790806/cdd-board-me
 eting-jun-2025
DTSTART:20250620T150000Z
DTEND:20250620T160000Z
ATTACH;FILENAME=2025-06-20 Agenda Package.pdf;FMTTYPE=application/pdf:https
 ://campussuite-storage.s3.amazonaws.com/prod/1559227/bf9b029c-84d1-11ef-a7
 a1-0241696e5a1d/2970888/79ce7ff4-4c82-11f0-a4a3-0e9989983943/file/2025-06-
 20 Agenda Package.pdf
ATTACH;FILENAME=2025-06-20 Residential CDD 3 Agenda Package.pdf;FMTTYPE=app
 lication/pdf:https://campussuite-storage.s3.amazonaws.com/prod/1559227/bf9
 b029c-84d1-11ef-a7a1-0241696e5a1d/2970887/79ce2d6a-4c82-11f0-921d-0e998998
 3943/file/2025-06-20 Residential CDD 3 Agenda Package.pdf
END:VEVENT
END:VCALENDAR
