BEGIN:VCALENDAR
VERSION:2.0
PRODID:SchoolNow
CALSCALE:GREGORIAN
BEGIN:VEVENT
UID:4ba9d94e-8670-11ef-ba8f-0e51ad788043
DTSTAMP:20250514T211919Z
SUMMARY:CDD Board Meeting - May 2025
LOCATION:3204 Heartleaf Ave. E.\, Panama City\, FL 32405
URL;VALUE=URI:https://www.sweetbayrescdd3.com/calendar/6790805/cdd-board-me
 eting-may-2025
DTSTART:20250516T150000Z
DTEND:20250516T160000Z
ATTACH;FILENAME=2025-05-16 RD 3 Agenda Package.pdf;FMTTYPE=application/pdf:
 https://campussuite-storage.s3.amazonaws.com/prod/1559227/bf9b029c-84d1-11
 ef-a7a1-0241696e5a1d/2954096/76137030-3108-11f0-b542-023f77d25ced/file/202
 5-05-16 RD 3 Agenda Package.pdf
ATTACH;FILENAME=2025-05-16 Main Agenda Package.pdf;FMTTYPE=application/pdf:
 https://campussuite-storage.s3.amazonaws.com/prod/1559227/bf9b029c-84d1-11
 ef-a7a1-0241696e5a1d/2954095/76133c46-3108-11f0-addd-023f77d25ced/file/202
 5-05-16 Main Agenda Package.pdf
END:VEVENT
END:VCALENDAR
