BEGIN:VCALENDAR
VERSION:2.0
PRODID:SchoolNow
CALSCALE:GREGORIAN
BEGIN:VEVENT
UID:36ad93be-8670-11ef-9f24-0affc08788e9
DTSTAMP:20250411T142540Z
SUMMARY:CDD Board Meeting - Apr. 2025 - CANCELLED
LOCATION:3204 Heartleaf Ave. E.\, Panama City\, FL 32405
URL;VALUE=URI:https://www.sweetbayrescdd3.com/calendar/6790804/cdd-board-me
 eting-apr-2025
DTSTART:20250418T150000Z
DTEND:20250418T160000Z
END:VEVENT
END:VCALENDAR
