BEGIN:VCALENDAR
VERSION:2.0
PRODID:SchoolNow
CALSCALE:GREGORIAN
BEGIN:VEVENT
UID:1cd8902e-8670-11ef-931f-0a58a9feac02
DTSTAMP:20250317T151850Z
SUMMARY:CDD Board Meeting - Mar. 2025 - CANCELLED
LOCATION:3204 Heartleaf Ave. E.\, Panama City\, FL 32405
URL;VALUE=URI:https://www.sweetbayrescdd3.com/calendar/6790803/cdd-board-me
 eting-mar-2025
DTSTART:20250321T150000Z
DTEND:20250321T160000Z
END:VEVENT
END:VCALENDAR
