BEGIN:VCALENDAR
VERSION:2.0
PRODID:SchoolNow
CALSCALE:GREGORIAN
BEGIN:VEVENT
UID:063b356a-8670-11ef-a382-0a58a9feac02
DTSTAMP:20250214T214240Z
SUMMARY:CDD Board Meeting - Feb. 2025
LOCATION:3204 Heartleaf Ave. E.\, Panama City\, FL 32405
URL;VALUE=URI:https://www.sweetbayrescdd3.com/calendar/6790802/cdd-board-me
 eting-feb-2025
DTSTART:20250221T160000Z
DTEND:20250221T170000Z
ATTACH;FILENAME=2025-02-21 Agenda Package.pdf;FMTTYPE=application/pdf:https
 ://campussuite-storage.s3.amazonaws.com/prod/1559227/bf9b029c-84d1-11ef-a7
 a1-0241696e5a1d/2916203/5a7af9d8-eb1c-11ef-85bd-0affc2dc0c53/file/2025-02-
 21 Agenda Package.pdf
END:VEVENT
END:VCALENDAR
