BEGIN:VCALENDAR
VERSION:2.0
PRODID:SchoolNow
CALSCALE:GREGORIAN
BEGIN:VEVENT
UID:c8a581a6-866f-11ef-9199-0a58a9feac02
DTSTAMP:20241206T205056Z
SUMMARY:CDD Board Meeting - Dec. 2024
LOCATION:3204 Heartleaf Ave. E.\, Panama City\, FL 32405
URL;VALUE=URI:https://www.sweetbayrescdd3.com/calendar/6790800/cdd-board-me
 eting-dec-2024
DTSTART:20241213T190000Z
DTEND:20241213T200000Z
ATTACH;FILENAME=2024-12-13 Agenda Package.pdf;FMTTYPE=application/pdf:https
 ://campussuite-storage.s3.amazonaws.com/prod/1559227/bf9b029c-84d1-11ef-a7
 a1-0241696e5a1d/2888139/793724fe-b413-11ef-8956-0a58a9feac02/file/2024-12-
 13 Agenda Package.pdf
END:VEVENT
END:VCALENDAR
