BEGIN:VCALENDAR
VERSION:2.0
PRODID:SchoolNow
CALSCALE:GREGORIAN
BEGIN:VEVENT
UID:b289ce0e-866f-11ef-b118-0a58a9feac02
DTSTAMP:20241125T190328Z
SUMMARY:CDD Board Meeting - Nov. 2024 - CANCELLED
LOCATION:3204 Heartleaf Ave. E.\, Panama City\, FL 32405
URL;VALUE=URI:https://www.sweetbayrescdd3.com/calendar/6790799/cdd-board-me
 eting-nov-2024
DTSTART:20241115T160000Z
DTEND:20241115T170000Z
END:VEVENT
END:VCALENDAR
